Workbook

Sheet Gleispreise
A1: Artikelnummer: | B1: Preis pro Stück
A2: 2200 | B2: 3.99
A3: 2201 | B3: 3.89
A4: 2202 | B4: 3.89
A5: 2203 | B5: 3.89
A6: 2204 | B6: 3.89
A7: 2205 | B7: 19.99
A8: 2206 | B8: 3.99
A9: 2207 | B9: 3.99
A10: 2208 | B10: 3.89
A11: 2209 | B11: 5.19
A12: 2210 | B12: 5.19
A13: 2221 | B13: 3.99
... A28: 2260 | B28: 82.99
A29: 2261L
A30: 2261R
A31: 2262 | B31: 55.99
A32: 2263 | B32: 55.99
A33: 2264L
A34: 2264R
A35: 2265 | B35: 27.99
A36: 2266 | B36: 27.99
A37: 2267L
A38: 2267R
A39: 2268 | B39: 55.99
A40: 2269 | B40: 55.99
A41: 2270 | B41: 79.99
A42: 22715 | B42: 31.99
A43: 22716 | B43: 31.99
A44: 2272 | B44: 9.9
A45: 2273 | B45: 9.9
A46: 2274 | B46: 5.29
A47: 2275 | B47: 68.99
A48: 2290 | B48: 9.29
A49: 2292 | B49: 11.49
A50: 2293 | B50: 3.99
... A55: 7286 | B55: 358
A56: 7287l | B56: 47.95
A57: 7287s | B57: 47.95
A58: 2291 | B58: 9.49
...

Sheet C-Gleis
A1: No. | B1: Bild | C1: Nummer | D1: Name | E1: Anmerkung | F1: Bemerkungen | G1: Bestand | H1: Zählfenster
A2: 1 | C2: 20197 | D2: 20197 | E2: Transparent
A3: 2 | C3: 20198 | D3: 20198 | E3: Transparent
A4: 3 | C4: 20199 | D4: 20199 | E4: Roadbed end, transparent
A5: 4 | C5: 24001 | D5: 24001 | E5: Roadbed end | F5: 16,5 mm
A6: 5 | C6: 24064 | D6: 24064 | F6: 64,3 mm | G6: 2
A7: 6 | C7: 24071 | D7: 24071 | F7: 70,8 mm
A8: 7 | C8: 24077 | D8: 24077 | F8: 77,5 mm
A9: 8 | C9: 24088 | D9: 24088 | E9: Feeder track MS 2 | F9: 188,3 mm
A10: 9 | C10: 24089 | D10: 24089 | E10: Feeder track with IR control | F10: 188,3 mm
A11: 10 | C11: 24094 | D11: 24094 | F11: 94,2 mm | G11: 6
A12: 11 | C12: 24107 | D12: 24107 | F12: 77,5 mm
A13: 12 | C13: 24115 | D13: 24115 | E13: R1 | F13: 360 mm 15°
A14: 13 | C14: 24130 | D14: 24130 | E14: R1 | F14: 360 mm 30° | G14: 63
A15: 14 | C15: 24172 | D15: 24172 | F15: 171,7 mm | G15: 33
A16: 15 | C16: 24188 | D16: 24188 | F16: 188,3 mm | G16: 24
A17: 16 | C17: 24194 | D17: 24194 S | E17: Sensor track R1 | F17: 360 mm 15°
A18: 17 | C18: 24206 | D18: 24206 | E18: R2 | F18: 437,5 mm 5,7°
A19: 18 | C19: 24207 | D19: 24207 | E19: R2 | F19: 437,5 mm 7,5°
A20: 19 | C20: 24215 | D20: 24215 | E20: R2 | F20: 437,5 mm 15°
A21: 20 | C21: 24224 | D21: 24224 | E21: R2 | F21: 437,5 mm 24,3° | G21: 7
A22: 21 | C22: 24229 | D22: 24229 | F22: 229,3 mm
A23: 22 | C23: 24230 | D23: 24230 | E23: R2 | F23: 437,5 mm 30° | G23: 2
A24: 23 | C24: 24236 | D24: 24236 | F24: 236,1 mm
A25: 24 | C25: 24294 | D25: 24294 S | E25: Sensor track R2 | F25: 437,5 mm 15°
A26: 25 | C26: 24315 | D26: 24315 | E26: R3 | F26: 515 mm 15°
A27: 26 | C27: 24330 | D27: 24330 | E27: R3 | F27: 515 mm 30°
A28: 27 | C28: 24360 | D28: 24360 | F28: 360 mm
A29: 28 | C29: 24430 | D29: 24430 | E29: R4 | F29: 579,3 mm 30°
A30: 29 | C30: 24530 | D30: 24530 | E30: R5 | F30: 643,6 mm 30°
A31: 30 | C31: 24611 | D31: 24611 | E31: Weiche links | F31: 188,3 mm R2 24,3° | G31: 5
A32: 31 | C32: 24612 | D32: 24612 | E32: Weiche rechts | F32: 188,3 mm R2 24,3° | G32: 3
A33: 32 | C33: 24620 | D33: 24620 | E33: DKW | F33: 188,3 mm 24,3° | G33: 1
A34: 33 | C34: 24624 | D34: 24624 | E34: DKW Motor | F34: 188,3 mm 24,3° | G34: 1
A35: 34 | C35: 24630 | D35: 24630 | E35: Dreiwegeweiche | F35: 188,3 mm 24,3°
A36: 35 | C36: 24640 | D36: 24640 | E36: Kreuzung | F36: 188,3 mm 24,3°
A37: 36 | C37: 24649 | D37: 24649 | E37: Kreuzung | F37: 103,3 mm 48,6°
A38: 37 | C38: 24671 | D38: 24671 | E38: Bogenweiche links | F38: Innen R1 30° Außen R2 §0° | G38: 2
A39: 38 | C39: 24672 | D39: 24672 | E39: Bogenweiche rechts | F39: Innen R1 30° Außen R2 §0° | G39: 1
A40: 39 | C40: 24711 | D40: 24711 | E40: Schlanke Weiche links | F40: 236,1 mm 12,1°
...

Sheet K-Gleis
A1: No. | B1: Bild | C1: Nummer | D1: Name | E1: Anmerkung | F1: Bemerkungen | G1: Bestand | H1: Zählfenster
A2: 1 | C2: 2200 | D2: 2200 (1/1) | F2: 180 mm | G2: 59
A3: 2 | C3: 2201 | D3: 2201 (1/2) | F3: 90 mm | G3: 9
A4: 3 | C4: 2202 | D4: 2202 (1/4) | F4: 45 mm | G4: 8
A5: 4 | C5: 2203 | D5: 2203 (1/6) | F5: 30 mm | G5: 3
A6: 5 | C6: 2204 | D6: 2204 (1/8) | F6: 22,5 mm | G6: 2
A7: 6 | C7: 2205 | D7: 2205 (Flex) | F7: 900 mm | G7: 8
A8: 7 | C8: 2206 | D8: 2206 | F8: 168,9 mm | G8: 10
A9: 8 | C9: 2207 | D9: 2207 | F9: 156 mm | G9: 8
A10: 9 | C10: 2208 | D10: 2208 | F10: 35,1 mm | G10: 10
A11: 10 | C11: 2209 | D11: 2209 | F11: 217,9 mm | G11: 5
A12: 11 | C12: 2210 | D12: 2210 | E12: Industriekreis | F12: 45°
A13: 12 | C13: 2221 | D13: 2221 | E13: Normalkreis | F13: 360 mm 30° | G13: 32
A14: 13 | C14: 2223 | D14: 2223 | E14: Normalkreis | F14: 360 mm 15° | G14: 5
A15: 14 | C15: 2224 | D15: 2224 | E15: Normalkreis | F15: 360 mm 7° 30'
A16: 15 | C16: 2229 | D16: 2229 S | E16: Sensor track Normalkreis | F16: 360 mm 15°
A17: 16 | C17: 2231 | D17: 2231 | E17: R2 | F17: 424,6 mm 30° | G17: 12
A18: 17 | C18: 2232 | D18: 2232 | E18: R2 | F18: 424,6 mm 22°30' | G18: 1
A19: 18 | C19: 2233 | D19: 2233 | E19: R2 | F19: 424,6 mm 15° | G19: 12
A20: 19 | C20: 2234 | D20: 2234 | E20: R2 | F20: 424,6 mm 7°30' | G20: 9
A21: 20 | C21: 2235 | D21: 2235 | E21: R2 | F21: 424,6 mm 3°45' | G21: 10
A22: 21 | C22: 2239 | D22: 2239 S | E22: Sensor track R2 | F22: 424,6 mm 15°
A23: 22 | C23: 2241 | D23: 2241 | E23: R3 | F23: 553,9 mm 30° | G23: 5
A24: 23 | C24: 2251 | D24: 2251 | E24: R4 | F24: 618,5 mm 30° | G24: 5
A25: 24 | C25: 2257 | D25: 2257 | E25: Kreuzung | F25: 225 mm 14°26' | G25: 1
A26: 25 | C26: 2258 | D26: 2258 | E26: Kreuzung | F26: 90 mm 45°
A27: 26 | C27: 2259 | D27: 2259 | E27: Kreuzung | F27: 168,9 mm 22°30'
A28: 27 | C28: 2260 | D28: 2260 | E28: DKW Bogen wie 2232 | F28: 168,9 mm 22°30'
A29: 28 | C29: 2261L | D29: 2261 L | E29: Weiche elektrisch Bogen wie 2232 | F29: 168,9 mm 22°30'
A30: 29 | C30: 2261R | D30: 2261 R | E30: Weiche elektrisch Bogen wie 2232 | F30: 168,9 mm 22°30'
A31: 30 | C31: 2262 | D31: 2262 | E31: Weiche elektrisch Bogen wie 2232 | F31: 168,9 mm 22°30' | G31: 2
A32: 31 | C32: 2263 | D32: 2263 | E32: Weiche elektrisch Bogen wie 2232 | F32: 168,9 mm 22°30' | G32: 3
A33: 32 | C33: 2264L | D33: 2264 L | E33: Handweiche Bogen wie 2232 | F33: 168,9 mm 22°30'
A34: 33 | C34: 2264R | D34: 2264 R | E34: Handweiche Bogen wie 2232 | F34: 168,9 mm 22°30'
A35: 34 | C35: 2265 | D35: 2265 | E35: Handweiche Bogen wie 2232 | F35: 168,9 mm 22°30'
A36: 35 | C36: 2266 | D36: 2266 | E36: Handweiche Bogen wie 2232 | F36: 168,9 mm 22°30' | G36: 5
A37: 36 | C37: 2267L | D37: 2267 L | E37: Bogenweiche elektrisch | F37: Außen R2 Innen Normalkreis
A38: 37 | C38: 2267R | D38: 2267 R | E38: Bogenweiche elektrisch | F38: Außen R2 Innen Normalkreis
A39: 38 | C39: 2268 | D39: 2268 | E39: Bogenweiche Hand | F39: Außen R2 Innen Normalkreis
A40: 39 | C40: 2269 | D40: 2269 | E40: Bogenweiche Hand | F40: Außen R2 Innen Normalkreis
...

Sheet M-Gleis
A1: No. | B1: Bild | C1: Nummer | D1: Name | E1: Anmerkung | F1: Bemerkungen | G1: Bestand | H1: Zählfenster
A2: 1 | C2: 2291 | D2: 2291 MK | E2: M->K System transition track | F2: 180 mm
A3: 2 | C3: 24951 | D3: 24951 MC | E3: M->C System transition track | F3: 180 mm | G3: 2
A4: 3 | C4: 5100 | D4: 5100 | E4: Normalkreis | F4: 360 mm 30° | G4: 140
A5: 4 | C5: 5101 | D5: 5101 | E5: Normalkreis | F5: 360 mm 15° | G5: 5
A6: 5 | C6: 5102 | D6: 5102 | E6: Normalkreis | F6: 360 mm 7,5°
A7: 6 | C7: 5103 | D7: 5103 F | E7: Feeder track | F7: 360 mm 30°
A8: 7 | C8: 5104 | D8: 5104 K | E8: Kontaktgleis | F8: 180 mm
A9: 8 | C9: 5105 | D9: 5105 K | E9: Kontaktgleis | F9: 360 mm 30°
A10: 9 | C10: 5106 | D10: 5106 | F10: 180 mm | G10: 210
A11: 10 | C11: 5107 | D11: 5107 | F11: 90 mm | G11: 10
A12: 11 | C12: 5108 | D12: 5108 | F12: 45 mm | G12: 10
A13: 12 | C13: 5109 | D13: 5109 | F13: 33,5 mm | G13: 5
A14: 13 | C14: 5110 | D14: 5110 | F14: 22,5 mm
A15: 14 | C15: 5111 | D15: 5111 F | E15: Feeder track | F15: 180 mm | G15: 2
A16: 15 | C16: 5112 | D16: 5112 U | E16: Uncoupler | F16: 90 mm | G16: 2
A17: 16 | C17: 5113 | E17: Lichtmast Entkupplungsgleis
A18: 17 | C18: 5114 | D18: 5114 | E18: Kreuzung | F18: 30° | G18: 1
A19: 18 | C19: 5115 | D19: 5115 CE | E19: Contact extension track | F19: 180 mm
A20: 19 | C20: 5116 | D20: 5116 CE | E20: Contact extension track Normalkreis | F20: 360 mm 30°
A21: 20 | C21: 5117 L | D21: 5117 L | E21: Weiche elektrisch | F21: 360 mm 30° | G21: 1
A22: 21 | C22: 5117 R | D22: 5117 R | E22: Weiche elektrisch | F22: 360 mm 30° | G22: 1
A23: 22 | C23: 5118 | D23: 5118 | E23: Weiche elektrisch | F23: 360 mm 30°
A24: 23 | C24: 5119 | D24: 5119 | E24: Weiche elektrisch | F24: 360 mm 30°
A25: 24 | C25: 5120 | D25: 5120 | E25: Industriekreis | F25: 282,6 mm 45° | G25: 20
A26: 25 | C26: 5121 L | D26: 5121 L | E26: Handweiche | F26: 360 mm 30°
A27: 26 | C27: 5121 R | D27: 5121 R | E27: Handweiche | F27: 360 mm 30°
A28: 27 | C28: 5127 | E28: Kontaktgleis mit Blinklicht | F28: 90 mm
A29: 28 | C29: 5128 | D29: 5128 | E29: DKW | F29: 30° | G29: 1
A30: 29 | C30: 5129 | D30: 5129 | F30: 70 mm | G30: 10
A31: 30 | C31: 5130 | E31: Entstörgleis Normalkreis | F31: 360 mm 30°
A32: 31 | C32: 5131 | D32: 5131 F | E32: Feeder track mit Entstörung | F32: 180 mm
A33: 32 | C33: 5137 L | D33: 5137 L | E33: Weiche elektrisch | F33: 22,5°
A34: 33 | C34: 5137 R | D34: 5137 R | E34: Weiche elektrisch | F34: 22,5°
A35: 34 | C35: 5138 | D35: 5138 | E35: Weiche elektrisch | F35: 22,5°
A36: 35 | C36: 5139 | D36: 5139 | E36: Weiche elektrisch | F36: 22,5°
A37: 36 | C37: 5140 L | D37: 5140 L | E37: Weiche elektrisch | F37: Bogenweiche | G37: 4
A38: 37 | C38: 5140 R | D38: 5140 R | E38: Weiche elektrisch | F38: Bogenweiche | G38: 4
A39: 38 | C39: 5141 | D39: 5141 | E39: Weiche elektrisch | F39: Bogenweiche
A40: 39 | C40: 5142 | D40: 5142 | E40: Weiche elektrisch | F40: Bogenweiche
...

Sheet Loktabelle
A1: Nummer | B1: Lok | C1: Typ | D1: Subtyp | E1: Energieträger | F1: Verwendungstyp | G1: Loknummer | H1: Achsfolge | I1: Epoche | J1: Bahngesellschaft | K1: Steuerung | L1: Decoder | M1: Fahrtrichtungswechsel | N1: Dig. Adresse | O1: Länge in cm | P1: Kupplungstyp | Q1: Hersteller | R1: Artikelnummer | S1: OVP | T1: Baujahr | U1: Motor | V1: Haftreifenzahl | W1: Haftreifen | X1: Bürsten | Y1: Bürstentyp | Z1: Schleifer | AA1: Leuchtmittel | AB1: Sonderfunktionen | AC1: Rauchsatzschaltung | AD1: Einsatz | AE1: Status | AF1: To Dos | AG1: Bemerkung | AH1: Eigene Arbeiten | AI1: Herkunft | AJ1: Zustand | AK1: Waggons | AL1: Relevante Webabdresse | AM1: Zuordnung
A2: 1 | B2: BR 23.0 | C2: Dampflok | D2: Schlepptender | E2: Kohle | F2: Personentransport | G2: 23 014 | H2: 1'C'1 - 2'2'T31 | I2: III | J2: Deutsche Bundesbahn | K2: Analog | L2: entfällt | M2: Perfektschaltung 800 | N2: entfällt | O2: 24.5 | P2: Bügelkupplung | Q2: Märklin | R2: DA 800 | S2: ja | T2: 1954-1955 | U2: SFCM | V2: 2 | W2: 7152 | X2: Kupfer/Graphit | Y2: 600300 | Z2: 7173 | AA2: 60000 | AB2: Perfektschaltung | AD2: Analogkreis, Paradelok, Personenzug | AF2: Farbarbeiten, Metallteile entrosten | AG2: Fährt unbedingt | AI2: Weihnachten Eltern; Peter Falkenstein | AJ2: gebraucht | AK2: Blechwaggons "Orientexpress" | AL2: Märklin Schlepptenderlokomotive - BR 23 - Artikelnummer DA 800 (maerklin-sammler-infos.de); https://www.lokmuseum.de/showartikel.php?Wg1=Spur%20H0%20M%E4rklin&Wg2=&SArt=1584&SBez=DA%20800%20Spur%20H0%20M%E4rklin%20Dampflokomotive%20mit%20Schlepptender&Seite=3&SID= | AM2: HS
A3: 2 | B3: DHG 500 C | C3: Verbrennungsmotor | D3: Lok | E3: Diesel | F3: Rangierlok | G3: DHG 500 | H3: C | I3: III/IV | J3: Privatbahn | K3: Digital | L3: ESU Lopi 4 | M3: Decoder | N3: 4 | O3: 11.2 | P3: Kupplungshaken | Q3: Märklin | R3: 3080 | S3: ja | T3: 1976 -1982 | U3: SFCM(HLM) | V3: 2 | W3: 7154 | X3: Graphit/Graphit | Y3: 601460 | Z3: 7185 | AB3: Licht Fahrstand | AD3: Rangierlok Hafen | AF3: Decals SWO, Farbarbeiten; Beleuchtung | AH3: Bühnen, Puffer ersetzt, Beleuchtung, Führerstandbeleuchtung, digitalisiert | AI3: Erste selbstgekaufte Lok | AJ3: neu | AL3: Artikel 3080 - Ersatzteil-Liste (maerklin.de); https://www.lokmuseum.de/showartikel.php?Wg1=Spur%20H0%20M%E4rklin&Wg2=Diesellokomotiven&SArt=975&SBez=3080%20Spur%20H0%20M%E4rklin%20Diesellokomotive&Seite=1&SID=; http://www.maerklin-sammler-infos.de/maerklin/lokomotiven/03080/03080_m.htm | AM3: CS
A4: 3 | B4: BR 89 (1) | C4: Dampflok | D4: Tenderlok | E4: Kohle | F4: Gütertransport | G4: 89 006 | H4: C | I4: III | J4: Deutsche Bundesbahn | K4: Analog | L4: entfällt | M4: Fahrtrichtungsschalter klassisch | N4: entfällt | O4: 11 | P4: Kupplungshaken | Q4: Märklin | R4: 3000 | S4: ja | U4: SFCM | V4: 2 | W4: 7154 | X4: Kupfer/Graphit | Y4: 600300 | Z4: 7185 | AA4: 60010 | AD4: Bimmelbahn analog | AF4: Reinigen, Farbarbeiten, Interne Nummer | AI4: Gekauft | AJ4: neu | AK4: 4040 3x | AL4: https://www.maerklin.de/de/produkte/details/article/3000/; http://maerklin-sammler-infos.de/maerklin/lokomotiven/03000/03000_m1.htm; https://www.lokmuseum.de/showartikel.php?Wg1=Spur%20H0%20M%E4rklin&Wg2=Dampflokomotiven&SArt=1791&SBez=3000%20Spur%20H0%20M%E4rklin%20Tenderlokomotive%20BR%2089&Seite=1&SID=
A5: 4 | B5: KLVM | C5: Dampflok | D5: Tenderlok | E5: Kohle | F5: Personentransport | G5: KLVM | H5: C | I5: I | J5: Privatbahn | K5: Analog | L5: entfällt | M5: Fahrtrichtungsschalter klassisch | N5: entfällt | O5: 10.8 | P5: Kupplungshaken | Q5: Märklin | R5: 3087 | S5: nein | U5: SFCM | V5: 2 | W5: 7152 | X5: Kupfer/Graphit | Y5: 600300 | Z5: 7185 | AE5: Z gestellt | AF5: Farbarbeiten Fahrwerk, FRU richten, gfs. elektronischer Umschalter, Fenster | AG5: Teil eines Sets | AI5: Gekauft | AJ5: neu | AL5: Tenderlokomotive. | Märklin (maerklin.de) http://www.maerklin-sammler-infos.de/maerklin/lokomotiven/03087/03087.htm https://www.lokmuseum.de/showartikel.php?Wg1=Spur%20H0%20M%E4rklin&Wg2=&SArt=1786&SBez=3087%20Spur%20H0%20M%E4rklin%20Tenderlokomotive%203087%20KLVM&Seite=21&SID=
A6: 5 | B6: BR 24 | C6: Dampflok | D6: Schlepptender | E6: Kohle | F6: Personentransport | G6: 24 058 | H6: 1'C - 3T16 | I6: III | J6: Deutsche Bundesbahn | K6: Digital | L6: TAMS LD-W 32.2 | M6: Decoder | N6: 24 | O6: 20 | P6: Relex | Q6: Märklin | R6: 3003 | S6: ja | T6: 1978 - 1985 | U6: SFCM | V6: 2 | W6: 7152 | X6: Kupfer/Graphit | Y6: 600300 | Z6: 7185 | AA6: 600100 | AC6: entfällt | AD6: Personenzug Digitalkreis | AF6: Räder reinigen, Fenster | AH6: Digitalisiert, Licht schaltbar gemacht | AI6: Gespart, Vater geholfen | AJ6: neu | AK6: Mehrtürenpersonen 4004 u 5, Gepäckwagen | AL6: Personenzuglokomotive mit Schlepptender | Märklin (maerklin.de); http://maerklin-sammler-infos.de/maerklin/lokomotiven/03003/03003.htm; https://www.lokmuseum.de/showartikel.php?Wg1=Spur%20H0%20M%E4rklin&Wg2=&SArt=1539&SBez=3003%20Spur%20H0%20M%E4rklin%20Dampflokomotive%20BR%2024%20der%20DB&Seite=16&SID= | AM6: SH
A7: 6 | B7: VT 95 / 795 (Schienenbus) (1) | C7: Verbrennungsmotor | D7: Triebwagen | E7: Diesel | F7: Personentransport | G7: 795 299-7 | H7: A1 | I7: III | J7: Deutsche Bundesbahn | K7: Analog | L7: entfällt | M7: Fahrtrichtungsschalter klassisch | N7: entfällt | O7: 14.5 | P7: Schienenbuskupplung | Q7: Märklin | R7: 3016 | S7: ja | U7: SFCM | V7: 2 | W7: 7153 | X7: Kupfer/Graphit | Y7: 600300 | Z7: 7164 | AA7: 600100 | AD7: Analog | AF7: Farbarbeiten, reinigen | AI7: Gekauft | AJ7: neu | AL7: https://www.maerklin.de/service/produktservice/listengenerator.php?brand=1&artikelnummer=3016; http://www.maerklin-sammler-infos.de/maerklin/lokomotiven/03016/03016.htm; https://www.lokmuseum.de/showartikel.php?Wg1=Spur%20H0%20M%E4rklin&Wg2=&SArt=1547&SBez=3016%20Spur%20H0%20M%E4rklin%20Schienenbus&Seite=16&SID=
A8: 7 | B8: Werkslok | C8: Dampflok | D8: Tenderlok | E8: Kohle | F8: Gütertransport | G8: Werkslok | H8: C | I8: II | J8: Privatbahn | K8: Analog | L8: entfällt | M8: Fahrtrichtungsschalter klassisch | N8: entfällt | O8: 10 | P8: Kupplungshaken | Q8: Märklin | R8: 3029 | S8: nein | T8: 1960 – 1967 | U8: SFCM | V8: 2 | W8: 7154 | X8: Kupfer/Graphit | Y8: 600300 | Z8: 7185 | AF8: Farbarbeiten, reinigen, Fenster | AH8: Puffer angebaut | AI8: Flohmarkt | AJ8: gebraucht | AL8: Märklin Dampflokomotive - Werkslok - Artikelnummer 3029 (maerklin-sammler-infos.de); https://www.lokmuseum.de/showartikel.php?Wg1=Spur%20H0%20M%E4rklin&Wg2=Dampflokomotiven&SArt=1034&SBez=3029%20Spur%20H0%20M%E4rklin%20Tenderlokomotive&Seite=1&SID=
A9: 8 | B9: Nr 34/BR 74 | C9: Dampflok | D9: Tenderlok | E9: Kohle | F9: Personentransport | G9: NR 34 | H9: 1'C | I9: I/II | J9: Privatbahn | K9: Analog/Digital | L9: Märklin Delta Mäuseklavier | M9: Decoder | N9: 8 oder 72 | O9: 12.7 | P9: Relex | Q9: Märklin | R9: 29175 | S9: nein | T9: 1998 – 2000 | U9: SFCM | V9: 2 | W9: 7153 | X9: Kupfer/Graphit | Y9: 600300 | Z9: 7185 | AA9: 600100 | AE9: Z gestellt | AF9: Fenster | AG9: Teil eines Sets | AI9: 1. Zukauf | AJ9: gebraucht | AL9: Güterzugpackung ´Mein Start mit Märklin´ mit C-Gleisoval und Transformator | Märklin (maerklin.de);
A10: 9 | B10: BR 80 rot | C10: Dampflok | D10: Tenderlok | E10: Kohle | F10: Rangierlok | G10: 80 016 | H10: C | I10: III | J10: Deutsche Bundesbahn | K10: Analog/Digital | L10: Märklin Delta | M10: Decoder | N10: 60 | O10: 11.1 | P10: Kupplungshaken | Q10: Märklin | R10: 29236 | S10: ja | T10: 2008 | U10: Walzenmotor | V10: 1 | X10: keine | AE10: Z gestellt | AG10: Teil eines Sets | AI10: Ulm gekauft bei Aldi | AJ10: neu
A11: 10 | B11: BR 80 schwarz | C11: Dampflok | D11: Tenderlok | E11: Kohle | F11: Rangierlok | G11: 80 034 | H11: C | I11: III | J11: Deutsche Bundesbahn | K11: Analog/Digital | L11: Märklin Delta | M11: Decoder | N11: 24 | O11: 11.1 | P11: Kupplungshaken | Q11: Märklin | R11: 29220 | S11: ja | T11: 2012 | U11: Walzenmotor | V11: 1 | AE11: Z gestellt | AG11: Teil eines Sets | AI11: 1. Zukauf | AJ11: gebraucht
A12: 11 | B12: DHG 300 B | C12: Verbrennungsmotor | D12: Lok | E12: Diesel | F12: Rangierlok | G12: DHG 300 | H12: B | I12: IV | J12: Privatbahn | K12: Analog/Digital | L12: Märklin Delta | M12: Decoder | N12: 72 | O12: 10.5 | P12: Kupplungshaken | Q12: Märklin | R12: 29266 | S12: ja | T12: 2013 | U12: Walzenmotor | V12: 1 | AF12: Führerstand drucken, Führerstandbeleuchtung | AG12: Teil eines Sets | AH12: Fenster eingebaut | AI12: 1. Zukauf | AJ12: gebraucht
A13: 12 | B13: Schienenzeppelin | C13: Verbrennungsmotor | D13: Triebwagen | E13: Diesel | F13: Personentransport | G13: Zeppelin I | H13: 2'B | I13: II | J13: Reichsbahn | K13: Analog | L13: entfällt | M13: Fahrtrichtungsschalter klassisch | N13: entfällt | O13: 28.8 | P13: entfällt | Q13: Märklin | R13: 3077 | S13: nein | T13: 1975 – 1981 | U13: SFCM | V13: 4 | W13: 7154 | X13: Kupfer/Graphit | Y13: 600300 | Z13: 7164 | AA13: 600150 | AB13: Propeller Bürsten 601460 | AF13: FRU einstellen, Innenbeleuchtung, gfs elektronischer Umschalter | AH13: Inneneinrichtung gedruckt | AI13: Second Hand OS | AJ13: gebraucht | AK13: entfällt | AL13: Artikel 3077 - Ersatzteil-Liste (maerklin.de); http://www.maerklin-sammler-infos.de/maerklin/lokomotiven/03077/03077_m.htm; https://www.lokmuseum.de/showartikel.php?Wg1=Spur%20H0%20M%E4rklin&Wg2=&SArt=1090&SBez=3077%20Spur%20H0%20M%E4rklin%20Schienenzeppelin&Seite=19&SID= | AM13: CN
A14: 13 | B14: BR 50 | C14: Dampflok | D14: Schlepptender | E14: Kohle | F14: Gütertransport | G14: 50 082-7 | H14: 1'E - 2'2'T26 | I14: III | J14: Deutsche Bundesbahn | K14: Digital | L14: TAMS LD-G 32.2 | M14: Decoder | N14: 50 | O14: 26.1 | P14: Relex | Q14: Märklin | R14: 3084 | S14: nein | T14: 1974 – 1981 | U14: DCM(HLM) | V14: 4 | W14: 7153 | X14: Graphit/Graphit | Y14: 601460 | Z14: 7164 | AB14: Rauch, Tenderbeleuchtung und -inneneinrichtung | AC14: Seuthe 11, Schaltung über Relais, Strom vom Gleis | AD14: Güterzug digital | AF14: Masse verbessern | AH14: Rauchsatz, digitalisiert, Beleuchtung Kabinentender | AI14: Onkel Norbert | AJ14: gebraucht | AK14: Güterwagen | AL14: https://www.maerklin.de/service/produktservice/listengenerator.php?artikelnummer=3084; http://maerklin-sammler-infos.de/maerklin/lokomotiven/03084/03084_m.htm; https://www.lokmuseum.de/showartikel.php?Wg1=Spur%20H0%20M%E4rklin&Wg2=&SArt=2369&SBez=3084%20Spur%20H0%20M%E4rklin%20Dampflokomotive%20mit%20Kabinentender%20BR%20050&Seite=21&SID= | AM14: UM
A15: 14 | B15: BR 41 | C15: Dampflok | D15: Schlepptender | E15: Kohle | F15: Gütertransport | G15: 41 334 | H15: 1'D'1 - 2'2'T34 | I15: III | J15: Deutsche Bundesbahn | K15: Analog | L15: entfällt | M15: Fahrtrichtungsschalter klassisch | N15: entfällt | O15: 27.5 | P15: Relex | Q15: Märklin | R15: 3082 | S15: ja | T15: 1978 - 1981 | U15: DCM | V15: 2 | W15: 7153 | X15: Graphit/Graphit | Y15: 601460 | Z15: 7164 | AA15: 600150 | AB15: Rauch | AC15: 7226, direkt, nicht schaltbar | AD15: Güterzug analog | AF15: FRU einstellen | AI15: 50. Geburtstag Mami | AJ15: gebraucht | AK15: Güterwagen | AL15: https://www.maerklin.de/service/produktservice/listengenerator.php?artikelnummer=3082; https://www.lokmuseum.de/showartikel.php?Wg1=Spur%20H0%20M%E4rklin&Wg2=Dampflokomotiven&SArt=1096&SBez=3082%20Spur%20H0%20M%E4rklin%20Dampflokomotive%20mit%20Schlepptender%20BR%2041&Seite=1&SID=; http://www.maerklin-sammler-infos.de/maerklin/lokomotiven/03082/03082_m.htm
A16: 15 | B16: BR 03.10 | C16: Dampflok | D16: Schlepptender | E16: Kohle | F16: Personentransport | G16: 03 1055 | H16: 2'C'1 - 2'2'T34St | I16: II | J16: Reichsbahn | K16: Analog | L16: entfällt | M16: Fahrtrichtungsschalter klassisch | N16: entfällt | O16: 27.4 | Q16: Märklin | R16: 3089 | S16: nein | U16: LFCM | V16: 2 | W16: 7152 | X16: Kupfer/Graphit | Y16: 600300 | Z16: 7185 | AA16: 600150 | AB16: Rauch | AC16: 7226, direkt, nicht schaltbar | AD16: Paradelok | AE16: klar | AH16: Rauchsatz eingebaut. | AI16: Second Hand OS | AJ16: gebraucht | AK16: 4136-4143 | AL16: https://www.maerklin.de/service/produktservice/listengenerator.php?artikelnummer=3089; http://maerklin-sammler-infos.de/maerklin/lokomotiven/03089/03089.htm; https://www.lokmuseum.de/showartikel.php?Wg1=Spur%20H0%20M%E4rklin&Wg2=&SArt=3199&SBez=3089%20Spur%20H0%20M%E4rklin%20Stromlinienlokomotive%20BR%2003%20der%20DR&Seite=21&SID=
A17: 16 | B17: VT 95 / 795 (Schienenbus) (2) | C17: Verbrennungsmotor | D17: Triebwagen | E17: Diesel | F17: Personentransport | G17: OAB | H17: B | I17: III | J17: Deutsche Bundesbahn | K17: Digital | L17: TAMS LD-W 32.2 | M17: Decoder | N17: 95 | O17: 14.5 | P17: Schienenbuskupplung | Q17: Märklin | R17: 3016 | S17: ja | U17: SFCM | V17: 2 | W17: 7153 | X17: Kupfer/Graphit | Y17: 600300 | Z17: 7164 | AA17: 600100 | AB17: Innenraumbeleuchtung, OAB Decals Eingangsbeleuchtung | AD17: Personenzug digital | AF17: Schaumstoff einbringen, Schleifer | AH17: OAB Decals, Einstiegsbeleuchtung | AI17: 1. Zukauf | AJ17: gebraucht | AL17: https://www.maerklin.de/de/produkte/details/article/3000/; http://maerklin-sammler-infos.de/maerklin/lokomotiven/03000/03000_m1.htm; https://www.lokmuseum.de/showartikel.php?Wg1=Spur%20H0%20M%E4rklin&Wg2=Dampflokomotiven&SArt=1791&SBez=3000%20Spur%20H0%20M%E4rklin%20Tenderlokomotive%20BR%2089&Seite=1&SID=
A18: 17 | B18: ICE 1 | C18: Elektromotor | D18: Triebwagen | E18: Strom | F18: Personentransport | G18: 401 069-0 | H18: Bo’Bo’ | I18: V | J18: Deutsche Bahn AG | K18: Analog/Digital | L18: Märklin Delta Lötpad | M18: Decoder | N18: 54 | O18: 22.1 | P18: Klickkurzkupplung | Q18: Märklin | R18: 2977/2976 | S18: nein | T18: 1993 - 1994 | U18: DCM | W18: 7154 | Z18: E 206 370 | AD18: Personenzug Digitalkreis | AF18: Beleuchtung, Decoder, Kupplungen, Beschriftung mit Osnabrück, Betriebsnummern, bleachen | AG18: Teil eines Sets | AI18: 1. Zukauf | AJ18: gebraucht | AK18: noch einen Speisewagen und mindestens einen Abteilwagen kaufen
A19: 18 | B19: TEE Triebwagen 1 | C19: Verbrennungsmotor | D19: Triebwagen | E19: Diesel | F19: Personentransport | G19: VT115014 | H19: B'2' | I19: III | J19: Deutsche Bundesbahn | K19: Digital | L19: Märklin mfx | M19: Decoder | N19: mfx | O19: 152 | P19: Scharfenberg | Q19: Roco | R19: 14183A | S19: ja | T19: 1983-1984 | U19: Walzenmotor | V19: 12 | W19: 40074 | X19: keine | AB19: Sound, Lichtwechsel, Führerstand | AD19: Paradelok Helvetia TEE | AF19: Ansetzteile, Kupplungen, Beleuchtung, Sound 2 | AH19: Digitalisiert, Steuerwagen motorisiert, Sound | AI19: Second Hand CUX | AJ19: gebraucht | AK19: entfällt | AM19: AP
A20: 19 | B20: ETA 150/BR 515 | C20: Elektromotor | D20: Akkutriebwagen | E20: Strom | F20: Personentransport | G20: 515 023-0 | H20: Bo'2' | I20: III | J20: Deutsche Bundesbahn | K20: Analog | L20: entfällt | M20: Fahrtrichtungsschalter klassisch | N20: entfällt | O20: 24 | P20: Relex | Q20: Märklin | R20: 3028 | S20: ja | U20: SFCM | V20: 2 | W20: 7154 | X20: Kupfer/Graphit | Y20: 600300 | Z20: 7164 | AA20: 600150 weiß 600010 rot | AB20: Lichtwechsel | AD20: Regionalbahn Wendezug | AF20: FRU einstellen, Wagen ansetzen | AI20: Weihnachten 2018 Mami; Norbert Mellmann | AJ20: gebraucht | AK20: entfällt
A21: 20 | B21: V200 | C21: Verbrennungsmotor | D21: Lok | E21: Diesel | F21: Multifunktion | G21: V200 060 | H21: B'B' | I21: III | J21: Deutsche Bundesbahn | K21: Digital | L21: Märklin | M21: Decoder | N21: 30 | O21: 21 | P21: Relex Sonderform | Q21: Märklin | R21: 3021 | S21: nein | T21: 1972 - 1978 | U21: LFCM(HLM) | V21: 4 | W21: 7154 | X21: Graphit/Graphit | Y21: 601460 | Z21: 7183 | AB21: Lichtwechsel | AD21: Schlafwagenzug | AF21: Farbarbeiten weiter | AH21: Digitalisiert, restauriert | AI21: Flohmarkt Ulm | AJ21: gebraucht | AK21: Schlafwagenzug | AL21: https://www.maerklin.de/service/produktservice/listengenerator.php?artikelnummer=3021; http://maerklin-sammler-infos.de/maerklin/lokomotiven/03021/03021.htm; https://www.lokmuseum.de/showartikel.php?Wg1=Spur%20H0%20M%E4rklin&Wg2=&SArt=1558&SBez=3021%20Spur%20H0%20M%E4rklin%20Diesellokomotive%20V200%20der%20DB&Seite=17&SID=
A22: 21 | B22: BR 89 (2) | C22: Dampflok | D22: Tenderlok | E22: Kohle | F22: Gütertransport | G22: 89 006 | H22: C | I22: III | J22: Deutsche Bundesbahn | K22: Analog/Digital | L22: Märklin Delta Lötpad | M22: Decoder | N22: 6 | O22: 11 | P22: Kupplungshaken | Q22: Märklin | R22: 3000 | S22: nein | U22: SFCM | V22: 2 | W22: 7154 | X22: Kupfer/Graphit | Y22: 600300 | Z22: 7185 | AD22: Digitalkreis kleiner Zug | AF22: Interne Nummer, Fenster | AI22: 1. Zukauf | AJ22: gebraucht | AL22: https://www.maerklin.de/de/produkte/details/article/3000/; http://maerklin-sammler-infos.de/maerklin/lokomotiven/03000/03000_m1.htm; https://www.lokmuseum.de/showartikel.php?Wg1=Spur%20H0%20M%E4rklin&Wg2=Dampflokomotiven&SArt=1791&SBez=3000%20Spur%20H0%20M%E4rklin%20Tenderlokomotive%20BR%2089&Seite=1&SID=
A23: 22 | B23: E 186 | C23: Elektromotor | D23: Pantographenlok | E23: Strom | F23: Multifunktion | G23: E186 103 | H23: Bo'Bo' | I23: VI | J23: Railpool Deutschland | K23: Analog/Digital | L23: Märklin | M23: Decoder | N23: mfx | O23: 21.7 | P23: Kurzkupplung | Q23: Märklin | R23: 29450 (36625) | S23: ja | U23: Walzenmotor | W23: 7153 | X23: keine | Z23: E 206 370 | AB23: Sound, Führerstand, Rücklicht | AF23: Decoder weiter mappen | AG23: Teil eines Sets | AH23: Sound, Führerstandbeleuchtung, Rücklicht rot | AI23: 1. Zukauf | AJ23: gebraucht | AK23: Güterwagen
A24: 23 | B24: BR 89 (3) | C24: Dampflok | D24: Tenderlok | E24: Kohle | F24: Gütertransport | G24: 89 028 | H24: C | I24: III | J24: Deutsche Bundesbahn | K24: Analog | L24: entfällt | M24: Fahrtrichtungsschalter klassisch | N24: entfällt | O24: 11 | P24: Kupplungshaken | Q24: Märklin | R24: CM 800 | S24: nein | T24: 1958 | U24: SFCM | V24: 2 | W24: 7154 | AE24: Z gestellt | AF24: Reinigen, Schornstein reparieren, interne Nummer | AG24: Handschalter | AI24: 2. Zukauf | AJ24: gebraucht | AL24: https://www.maerklin.de/de/produkte/details/article/3000/; http://maerklin-sammler-infos.de/maerklin/lokomotiven/03000/03000_m1.htm; https://www.lokmuseum.de/showartikel.php?Wg1=Spur%20H0%20M%E4rklin&Wg2=Dampflokomotiven&SArt=1791&SBez=3000%20Spur%20H0%20M%E4rklin%20Tenderlokomotive%20BR%2089&Seite=1&SID=
A25: 24 | B25: BR 89 | C25: Dampflok | D25: Tenderlok | E25: Kohle | F25: Gütertransport | G25: 89 066 | H25: C | I25: III | J25: Deutsche Bundesbahn | K25: Analog | L25: entfällt | M25: Fahrtrichtungsschalter klassisch | N25: entfällt | O25: 10.8 | P25: Kupplungshaken | Q25: Märklin | R25: 3104 | S25: ja | U25: SFCM | V25: 2 | W25: 7154 | AF25: FRU einstellen | AH25: Schornstein repariert | AI25: 2. Zukauf | AJ25: gebraucht | AL25: https://www.maerklin.de/de/produkte/details/article/3000/; http://maerklin-sammler-infos.de/maerklin/lokomotiven/03000/03000_m1.htm; https://www.lokmuseum.de/showartikel.php?Wg1=Spur%20H0%20M%E4rklin&Wg2=Dampflokomotiven&SArt=1791&SBez=3000%20Spur%20H0%20M%E4rklin%20Tenderlokomotive%20BR%2089&Seite=1&SID=
A26: 25 | B26: BR 89 (4) | C26: Dampflok | D26: Tenderlok | E26: Kohle | F26: Gütertransport | G26: 89 006 | H26: C | I26: III | J26: Deutsche Bundesbahn | K26: Analog | L26: entfällt | M26: Fahrtrichtungsschalter klassisch | N26: entfällt | O26: 11 | P26: Kupplungshaken | Q26: Märklin | R26: 3000 | S26: nein | U26: SFCM | V26: 2 | W26: 7154 | AE26: Z gestellt | AF26: Interne Nummer | AI26: 2. Zukauf | AJ26: gebraucht
A27: 26 | B27: VT 95 / 795 (Schienenbus) (3) | C27: Verbrennungsmotor | D27: Triebwagen | E27: Diesel | F27: Personentransport | G27: 795 299-7 | H27: B | I27: III | J27: Deutsche Bundesbahn | K27: Analog | L27: entfällt | M27: Fahrtrichtungsschalter klassisch | N27: entfällt | O27: 14.5 | P27: Schienenbuskupplung | Q27: Märklin | R27: 3016 | S27: ja | U27: SFCM | V27: 2 | W27: 7153 | AD27: Z-Gestellt | AI27: 2. Zukauf | AJ27: gebraucht | AK27: entfällt | AL27: https://www.maerklin.de/de/produkte/details/article/3000/; http://maerklin-sammler-infos.de/maerklin/lokomotiven/03000/03000_m1.htm; https://www.lokmuseum.de/showartikel.php?Wg1=Spur%20H0%20M%E4rklin&Wg2=Dampflokomotiven&SArt=1791&SBez=3000%20Spur%20H0%20M%E4rklin%20Tenderlokomotive%20BR%2089&Seite=1&SID=
A28: 27 | B28: BR 74 | C28: Dampflok | D28: Tenderlok | E28: Kohle | F28: Personentransport | G28: 74 701 | H28: 1'C | I28: III | J28: Deutsche Bundesbahn | K28: Analog/Digital | L28: Märklin Delta Mäuseklavier | M28: Decoder | N28: 80 | O28: 12.7 | P28: Relex | Q28: Märklin | R28: 3095 | S28: nein | T28: 1977 – 2003 | U28: SFCM | V28: 2 | W28: 7153 | AD28: Personenzug analog | AF28: Fenster | AI28: 2. Zukauf | AJ28: gebraucht | AK28: 3 x Donnerbüchsen und Gepäck
A29: 28 | B29: BR 81 | C29: Dampflok | D29: Tenderlok | E29: Kohle | F29: Rangierlok | G29: 81 010 | H29: D | I29: III | J29: Deutsche Bundesbahn | K29: Digital | L29: TAMS LD-W 32.2 | M29: Decoder | N29: 81 | O29: 12.8 | P29: Telex | Q29: Märklin | R29: 3032 | S29: ja | U29: SFCM | V29: 2 | W29: 7154 | AB29: TELEX nachgerüstet | AD29: Rangierlok digital | AF29: CVs einstellen | AG29: Teil eines Sets | AH29: Mit digitaler Telex versehen | AI29: 2. Zukauf | AJ29: gebraucht
A30: 29 | B30: V260 | C30: Verbrennungsmotor | D30: Lok | E30: Diesel | F30: Rangierlok | G30: V260 417-1 | H30: C | I30: III | J30: Deutsche Bundesbahn | K30: Digital | L30: ESU Lopi 4 | M30: Decoder | N30: 60 | O30: 12 | P30: Telex | Q30: Märklin | R30: 3064 | S30: ja | T30: 1969-1983 | U30: SFCM(HLM) | V30: 2 | W30: 7153 | AB30: TELEX nachgerüstet | AD30: Rangierlok digital | AF30: Farbarbeiten weiter; Decoder programmieren, Betriebsnummer ändern | AH30: Digitalisiert und mit Telex versorgt | AI30: 2. Zukauf | AJ30: gebraucht
A31: 30 | B31: V100 | C31: Verbrennungsmotor | D31: Lok | E31: Diesel | F31: Rangierlok | G31: V100 2215 | H31: B'B' | I31: III | J31: Deutsche Bundesbahn | K31: Analog | L31: entfällt | M31: Fahrtrichtungsschalter klassisch | N31: entfällt | O31: 14.1 | P31: Bügelkupplung | Q31: Märklin | R31: 3072 | S31: ja | T31: 1966-1968 | U31: LFCM | V31: 4 | W31: 7154 | AD31: Güterzug Analog | AF31: Farbarbeiten weiter | AI31: 2. Zukauf | AJ31: gebraucht | AK31: Güterwagen
A32: 31 | B32: BR 41 | C32: Dampflok | D32: Schlepptender | E32: Diesel | F32: Gütertransport | G32: 41 356 | H32: 1'D'1 – 2'2'T34Öl | I32: III | J32: Deutsche Bundesbahn | K32: Digital | L32: Märklin | M32: Decoder | N32: mfx | O32: 27.5 | P32: Kurzkupplung | Q32: Märklin | R32: 37927 | S32: ja | T32: 2011 | U32: Glockenanker | V32: 2 | AB32: Rauch, Sound | AD32: Güterzug Digital | AI32: Weihnachten 2019 | AJ32: gebraucht | AK32: Güterwagen
A33: 32 | B33: BR 86 | C33: Dampflok | D33: Tenderlok | E33: Kohle | F33: Rangierlok | G33: 86 582 | H33: 1'D'1 | I33: III | J33: Deutsche Bundesbahn | K33: Analog/Digital | L33: Märklin Delta Mäuseklavier | M33: Decoder | N33: 74 | O33: 15.8 | P33: Telex | Q33: Märklin | R33: 3096 | S33: nein | T33: Ab 2001 | U33: LFCM | V33: 2 | W33: 7153 | AB33: TELEX | AD33: Rangierlok analog | AF33: TELEX umlöten und Mikroschalter einbauen | AI33: Defekt gekauft | AJ33: gebraucht
A34: 33 | B34: V260 | C34: Verbrennungsmotor | D34: Lok | E34: Diesel | F34: Rangierlok | G34: V260 417-1 | H34: C | I34: III | J34: Deutsche Bundesbahn | K34: Analog | L34: entfällt | M34: TELEX Schalter | N34: entfällt | O34: 12 | P34: Telex | Q34: Märklin | R34: 3065 | S34: ja | U34: SFCM | V34: 2 | W34: 7153 | AB34: TELEX | AD34: Rangierlok analog | AI34: Norberts Bruder | AJ34: gebraucht
A35: 34 | B35: BR 24 | C35: Dampflok | D35: Schlepptender | E35: Kohle | F35: Personentransport | G35: 24 061 | H35: 1'C-2'2' – T 26 | I35: III | J35: Deutsche Bundesbahn | K35: Digital | L35: Märklin | M35: Decoder | N35: mfx | O35: 19.4 | P35: Kurzkupplung | Q35: Märklin | R35: 36249 | S35: ja | T35: 2019 | V35: 2 | W35: 7153 | AB35: Rauch, Sound | AC35: Vom Werk aus eingebaut | AD35: Personenzug Digital | AE35: klar | AI35: Helgoland 2020 | AJ35: neu | AK35: 2x Umbauwagen und Gepäck | AM35: SB
A36: 35 | B36: E 103 | C36: Elektromotor | D36: Pantographenlok | E36: Strom | F36: Personentransport | G36: 103 113-7 | H36: Co'Co' | I36: IV | J36: Deutsche Bundesbahn | K36: Analog | L36: entfällt | M36: elektronischer Schalter | N36: entfällt | O36: 21.9 | P36: Relex Sonderform | Q36: Märklin | R36: 3357 | S36: ja | T36: 1983 | U36: LFCM | W36: 7153 | AB36: Lichtwechsel | AD36: Personenzug analog | AH36: Motorraumbeleuchtung | AI36: Hagen 2020 | AJ36: gebraucht | AK36: TEE Wagen
A37: 36 | B37: E 111 | C37: Elektromotor | D37: Pantographenlok | E37: Strom | F37: Personentransport | G37: E 111 068-3 | H37: Bo'Bo' | I37: IV | J37: Deutsche Bundesbahn | K37: Analog | L37: entfällt | M37: Fahrtrichtungsschalter klassisch | N37: entfällt | O37: 19.1 | P37: Bügelkupplung | Q37: Märklin | R37: 2862 | S37: ja | T37: 1988 | W37: 7153 | AD37: Personenzug analog | AG37: Teil eines Sets | AI37: Hagen 2020 | AJ37: gebraucht | AK37: Demonstrationszug
A38: 37 | B38: BR 53 | C38: Dampflok | D38: Schlepptender | E38: Kohle | F38: Gütertransport | G38: 53 0012 | H38: (1’C)D - 3'1'T18 | I38: III | J38: Deutsche Bundesbahn | K38: Digital | L38: Märklin | M38: Decoder | N38: mfx | O38: 35.5 | P38: Relex | Q38: Märklin | R38: 37020 | S38: ja | V38: 4 | W38: 7153 | AB38: Rauch, Sound, Kondenstender | AC38: 7226, schaltbar | AD38: Güterzug digital | AE38: klar | AI38: eBay 2020 | AJ38: gebraucht | AK38: 3x Schwerlastwagons | AM38: AW
A39: 38 | B39: BR 89 (5) | C39: Dampflok | D39: Tenderlok | E39: Kohle | F39: Gütertransport | G39: 89 006 | H39: C | I39: III | J39: Deutsche Bundesbahn | K39: Analog | L39: entfällt | M39: Fahrtrichtungsschalter klassisch | N39: entfällt | O39: 11 | P39: Kupplungshaken | Q39: Märklin | R39: 3000 | S39: ja | U39: SFCM | V39: 2 | W39: 7154 | AE39: Z-Gestellt | AF39: Interne Nummer | AI39: Hagen 2020 | AJ39: gebraucht | AL39: https://www.maerklin.de/de/produkte/details/article/3000/; http://maerklin-sammler-infos.de/maerklin/lokomotiven/03000/03000_m1.htm; https://www.lokmuseum.de/showartikel.php?Wg1=Spur%20H0%20M%E4rklin&Wg2=Dampflokomotiven&SArt=1791&SBez=3000%20Spur%20H0%20M%E4rklin%20Tenderlokomotive%20BR%2089&Seite=1&SID=
A40: 39 | B40: V212 | C40: Verbrennungsmotor | D40: Lok | E40: Diesel | F40: Gütertransport | G40: V212 215-8 | H40: B'B' | I40: III | J40: Deutsche Bundesbahn | K40: Analog | L40: entfällt | M40: Fahrtrichtungsschalter klassisch | N40: entfällt | O40: 14.1 | P40: Bügelkupplung | Q40: Märklin | R40: 3072 | S40: ja | U40: LFCM | V40: 4 | AD40: Wendezug Analog Silberlinge | AI40: Hagen 2020 | AJ40: gebraucht | AK40: Silberlinge
...

Sheet Waggontabelle
A1: Nummer | B1: Vorbild | C1: Bestellnummer | D1: Hersteller | E1: Bahngesellschaft | F1: Wagenart | G1: Epoche | H1: Sonderanfertigung | I1: Betriebsnummer | J1: Länge in cm | K1: Kupplungstyp | L1: OVP | M1: Zubehör | N1: Status | O1: Features Serie | P1: Eigene Arbeiten | Q1: ToDos | R1: Herkunft | S1: Zustand
A2: 1 | B2: Personenwagen | C2: 4000 | D2: Märklin | F2: Reisezugwagen | G2: II/III | H2: Eigenproduktion | I2: 4000 Bi 18t | J2: 11.5 | N2: klar | P2: Inneneinrichtung, Beleuchtung, Schlußlaterne | Q2: Einfahren | S2: neu
A3: 2 | B3: Personenwagen | C3: 4000 | D3: Märklin | F3: Reisezugwagen | G3: II/III | H3: Eigenproduktion | I3: 4000 Bi 18t | J3: 11.5 | N3: klar | P3: Inneneinrichtung, Beleuchtung, Schlußlaterne | S3: gebraucht
A4: 3 | B4: Schwerlastwagen Trafo grau SSL 53 | C4: 4617 | D4: Märklin | E4: DB | F4: Güterwagen | G4: III | I4: 980 896 | J4: 25 | L4: ja | M4: Trafo grau | R4: Meine Anlage | S4: neu
A5: 4 | B5: Schwerlastwagen Trafo grün | C5: 4617 | D5: Märklin | E5: DB | F5: Güterwagen | G5: III | I5: 980 896 | J5: 25 | L5: ja | M5: Trafo grün | R5: Hagen | S5: gebraucht
A6: 5 | B6: Schwerlastwagen Kiste | C6: 4618 | D6: Märklin | E6: DB | F6: Güterwagen | G6: III | I6: 980 896 | J6: 25 | L6: ja | M6: Kiste | R6: Hagen | S6: gebraucht
A7: 6 | B7: Schnellzuggepäckwagen DRG Pw 4ü bay 09 | C7: 4137 | D7: Märklin | E7: DRG | F7: Packwagen | G7: II | I7: 107 766 | J7: 20 | K7: vorne Bügelkupplung Hinten Stromführende Spezialkurzkupplung | L7: ja | N7: klar | P7: Beleuchtung, Masse verbessert, große Faltenbälge, Kurzkupplung | R7: Norberts Bruder | S7: gebraucht
A8: 7 | B8: D-Zugwagen DRG C4übay 11 | C8: 4136 | D8: Märklin | E8: DRG | F8: Reisezugwagen | G8: II | I8: 17 944 | J8: 22 | K8: Stromführende Spezialkurzkupplung | L8: ja | N8: klar | P8: Beleuchtung, Masse verbessert, große Faltenbälge, Kurzkupplung | R8: Norberts Bruder | S8: gebraucht
A9: 8 | B9: D-Zugwagen DRG C4übay 11 | C9: 4136 | D9: Märklin | E9: DRG | F9: Reisezugwagen | G9: II | I9: 17 944 | J9: 22 | K9: Stromführende Spezialkurzkupplung | L9: ja | N9: klar | P9: Beleuchtung, Masse verbessert, große Faltenbälge, Kurzkupplung | R9: Norberts Bruder | S9: gebraucht
A10: 9 | B10: Schnellzugwagen DRG ABC 4ü bay 11 | C10: 4143 | D10: Märklin | E10: DRG | F10: Reisezugwagen | G10: II | I10: 14 917 | J10: 22 | K10: Stromführende Spezialkurzkupplung | L10: ja | N10: klar | P10: Beleuchtung, Masse verbessert, große Faltenbälge, Kurzkupplung | R10: Norberts Bruder | S10: gebraucht
A11: 10 | B11: Schnellzugwagen DRG ABC 4ü bay 11 | C11: 4143 | D11: Märklin | E11: DRG | F11: Reisezugwagen | G11: II | I11: 14 917 | J11: 22 | K11: Vorne stromführende Spezialkurzkupplung, hinten Bügelkupplung | L11: ja | N11: klar | P11: Beleuchtung, Masse verbessert, große Faltenbälge, Kurzkupplung | R11: Norberts Bruder | S11: gebraucht
A12: 11 | B12: Metronom DoSto Steuerwagen | C12: 58369A | D12: Piko | E12: Metronom | F12: Reisezugwagen | G12: IV | H12: Wagenset "Metronom" | I12: 8673 001-4 | J12: 30.8 | K12: Vorne keine Kupplung hinten Piko Stromführende Kupplung | L12: ja | P12: Lichtwechsel, Zugzielanzeige, Passagiere, Stromführende Kupplung, Decoder | Q12: Decoder mappen | R12: Bremerhaven 2022 | S12: gebraucht
A13: 12 | B13: Metronom DoSto | C13: 58369B | D13: Piko | E13: Metronom | F13: Reisezugwagen | G13: IV | H13: Wagenset "Metronom" | I13: 2675 028-8 | J13: 30.8 | K13: Piko Stromführende Kupplung eine Seite | L13: ja | N13: klar | P13: Stromführende Kupplung, Beleuchtung, Passagiere | R13: Bremerhaven 2022 | S13: gebraucht
A14: 13 | B14: Metronom DoSto | C14: 58369C | D14: Piko | E14: Metronom | F14: Reisezugwagen | G14: IV | H14: Wagenset "Metronom" | I14: 2675 017-1 | J14: 30.8 | L14: ja | Q14: Beleuchtung, | R14: Bremerhaven 2022 | S14: gebraucht
A15: 14 | B15: S-Bahn Steuerwagen Bxf 796 | C15: 4185 | D15: Märklin | E15: DB | F15: Reisezugwagen | G15: IV | I15: 50 80 27-33 125-7 | J15: 24.5 | K15: Kurzkupplung | L15: ja | N15: klar | O15: Lichtwechsel, Beleuchtung, Passagiere | Q15: Stromführende Kupplung? | R15: e-Bay 2021 | S15: gebraucht
A16: 15 | B16: Güterzug-Gepäckwagen Pwg 14 (Pwg Pr 14) | C16: 48172 | D16: Märklin | E16: DB | F16: Bahndienstwagen | G16: III | H16: Insider 2022 | I16: 118 275 | J16: 9.6 | L16: ja | M16: Preiser Bahnpersonal | N16: klar | R16: Insider | S16: neu
A17: 16 | B17: Bierkühlwagen Paulaner Bräu | C17: 48171 | D17: Märklin | E17: DB | F17: Güterwagen | G17: IV | H17: Insider 2021 | I17: 805 0 032-1 | J17: 13.9 | L17: ja | N17: klar | R17: Insider | S17: neu
A18: 17 | B18: Kesselwagen EVA | C18: 48170 | D18: Märklin | E18: DB | F18: Güterwagen | G18: IV | H18: Insider 2020 | I18: 0719 015-8 | J18: 10 | L18: ja | N18: klar | R18: Insider | S18: neu
A19: 18 | B19: Bierkühlwagen Weihenstephan | C19: 48166 | D19: Märklin | E19: DB | F19: Güterwagen | G19: III | H19: Insider 2016 | I19: 516 814 | J19: 10.6 | L19: ja | N19: klar | R19: Insider | S19: neu
A20: 19 | B20: Zweiachsiger Schiebedach-/Schiebewandwagen Bauart Tbis 871 Verzinkerei Kopf | C20: 48120 | D20: Märklin | E20: DB | F20: Güterwagen | G20: IV | H20: Museumswagen 2020 | I20: 517 5 902-0 | J20: 16.1 | L20: ja | M20: LKW Hanomag F55 Schuco Absperrgitter Dekobox | N20: klar | R20: Helaware | S20: neu
A21: 20 | B21: Zweiachsiger gedeckter Güterwagen Bauart Gl 22 "Dresden" Firma Dick | C21: 48121 | D21: Märklin | E21: DB | F21: Güterwagen | G21: III | H21: Museumswagen 2021 | I21: 512 521 | J21: 13.9 | L21: ja | M21: Brötchenmesser Dekobox | N21: klar | R21: Helaware | S21: neu
A22: 21 | B22: Vierachsiger offener Selbstentladewagen der Bauart OOtz41 Stadtwerke Göppingen | C22: 48122 | D22: Märklin | E22: DB | F22: Güterwagen | G22: III | H22: Museumswagen 2022 | I22: 512 522 | J22: 11.5 | L22: ja | M22: VW-Bus T1 mit Gepäckträger der Stadtwerke Göppingen Schuco Dekobox | N22: klar | R22: Helaware | S22: neu
A23: 22 | B23: H 3572 der Königlich Württembergischen Staatseisenbahnen (K.W.St.E.). Beidseitige Bremserbühne. Brauerei zur Post Heideck | C23: 94262 | D23: Märklin | E23: K.W.St.E. | F23: Güterwagen | G23: I/II | H23: Sonderwagen Post Philatelie 2002 | J23: 10.6 | L23: ja | N23: klar | R23: RM 2022 | S23: gebraucht
A24: 23 | B24: Typ H der Königlich Württembergischen Staatseisenbahnen (K.W.St.E.). Mit 2 Bremserbühnen. Heizwagen | C24: 48852 | D24: Märklin | E24: K.W.St.E. | F24: Güterwagen | G24: I/II | I24: 91003 | J24: 10.6 | L24: ja | N24: klar | R24: RM 2022 | S24: gebraucht
A25: 24 | B25: Privatwagen, eingestellt bei den Königlich Württembergischen Staatseisenbahnen (K.W.St.E.). Mit beidseitiger Bremserbühne. Brauerei zum Waldhorn Plochingen | C25: 48282 | D25: Märklin | E25: K.W.St.E. | F25: Güterwagen | G25: I/II | I25: 600 055 | J25: 10.6 | L25: ja | N25: klar | R25: RM 2022 | S25: gebraucht
A26: 25 | B26: Privatwagen, eingestellt bei den Königlich Württembergischen Staatseisenbahnen (K.W.St.E.). Mit beidseitiger Bremserbühne. Brauerei Dinkelsacker Stuttgart | C26: 48283 | D26: Märklin | E26: K.W.St.E. | F26: Güterwagen | G26: I/II | I26: 600 082 | J26: 10.6 | L26: ja | N26: klar | R26: RM 2022 | S26: gebraucht
A27: 26 | B27: Offener Hochbordwagen Om 21 mit Bremserhaus und Bremserbühne, Kohlebeladung | C27: 46027 | D27: Märklin | E27: DB | F27: Güterwagen | G27: III | I27: 753 721 | J27: 11.3 | L27: ja | N27: klar | O27: gealtert | R27: Mami 2022 | S27: neu
A28: 27 | B28: Personenwagen B3yge der DB, Kunststoff-Gehäuse, 2. Klasse, Aufschrift Zuglaufschild Göppingen - Boll, | C28: 4079 | D28: Märklin | E28: DB | F28: Reisezugwagen | G28: III | I28: 87453Stg | J28: 15.2 | K28: RELEX | L28: ja | N28: klar | P28: Beleuchtung, Inneneinrichtung gedruckt, Reisende | R28: 2. Zukauf | S28: gebraucht
A29: 28 | B29: Personenwagen B3yge der DB, Kunststoff-Gehäuse, 2. Klasse, Aufschrift Zuglaufschild Göppingen - Boll, | C29: 4079 | D29: Märklin | E29: DB | F29: Reisezugwagen | G29: III | I29: 87453Stg | J29: 15.2 | K29: RELEX | L29: ja | N29: klar | P29: Beleuchtung, Inneneinrichtung gedruckt, Reisende | R29: 2. Zukauf | S29: gebraucht
A30: 29 | B30: Halbgepäckwagen BD3yge der DB, Kunststoff-Gehäuse, 2. Klasse | C30: 4080 | D30: Märklin | E30: DB | F30: Halbpackwagen | G30: III | I30: 99405Stg | J30: 15.2 | K30: RELEX | L30: ja | N30: klar | P30: Beleuchtung, Inneneinrichtung gedruckt, Reisende | R30: 2. Zukauf | S30: gebraucht
A31: 30 | B31: Chemie-Kesselwagen EVA | C31: 4757 | D31: Märklin | E31: DB | F31: Güterwagen | G31: IV | I31: 793 2 509-2 | J31: 18 | K31: KK | L31: ja | N31: klar | R31: Facebook 2023 | S31: gebraucht
A32: 31 | B32: Chemie-Kesselwagen EVA | C32: 4757 | D32: Märklin | E32: DB | F32: Güterwagen | G32: IV | I32: 793 2 509-2 | J32: 18 | K32: KK | L32: ja | N32: klar | R32: Facebook 2023 | S32: gebraucht
A33: 32 | B33: Chemie-Kesselwagen EVA | C33: 4757 | D33: Märklin | E33: DB | F33: Güterwagen | G33: IV | I33: 793 2 509-2 | J33: 18 | K33: KK | L33: ja | N33: klar | R33: Facebook 2023 | S33: gebraucht
A34: 33 | B34: Chemie-Kesselwagen EVA | C34: 4757 | D34: Märklin | E34: DB | F34: Güterwagen | G34: IV | I34: 793 2 509-2 | J34: 18 | K34: KK | L34: ja | N34: klar | R34: Facebook 2023 | S34: gebraucht
A35: 34 | B35: "Donnerbüchse"-Einheitswagen Pwi der Deutschen Bundesbahn (DB) | C35: 4315 | D35: Märklin | E35: DB | F35: Packwagen | G35: III | I35: 114 843 Han | J35: 16 | K35: KK | L35: ja | N35: klar | Q35: Beleuchtung | R35: Fleischhut 2023 | S35: neu
A36: 35 | B36: "Donnerbüchse"-Einheitswagen Abi der Deutschen Bundesbahn (DB). 1. und 2. Klasse. | C36: 4313 | D36: Märklin | E36: DB | F36: Reisezugwagen | G36: III | I36: 36 590 Han | J36: 16 | K36: KK | L36: ja | N36: klar | Q36: Beleuchtung | R36: Fleischhut 2023 | S36: neu
A37: 36 | B37: "Donnerbüchse"-Einheitswagen Bi der Deutschen Bundesbahn (DB). 2. Klasse. | C37: 4314 | D37: Märklin | E37: DB | F37: Reisezugwagen | G37: III | I37: 85 285 Han | J37: 16 | K37: KK | L37: ja | N37: klar | Q37: Beleuchtung | R37: Fleischhut 2023 | S37: neu
A38: 37 | B38: Bar Wagen | C38: aus 14183a | D38: Roco | E38: DB | F38: Reisezugwagen | G38: III | I38: VM115303ARy | J38: 21 | K38: Scharfenberg | L38: ja | Q38: Beleuchtung | R38: 2. Hand Cuxhaven | S38: gebraucht
A39: 38 | B39: Abteilwagen 1. Klasse | C39: aus 14183a | D39: Roco | E39: DB | F39: Reisezugwagen | G39: III | I39: VM115105Aü | J39: 21 | K39: Scharfenberg | L39: ja | Q39: Beleuchtung | R39: 2. Hand Cuxhaven | S39: gebraucht
A40: 39 | B40: Abteilwagen 1. Klasse | C40: aus 14070a | D40: Roco | E40: DB | F40: Reisezugwagen | G40: III | I40: VM115104Ay | J40: 21 | K40: Scharfenberg | L40: ja | Q40: Beleuchtung | R40: 2. Hand Cuxhaven | S40: gebraucht
...

Sheet Zuggarnituren
A1: Zugnummer | B1: Lok | C1: Loknummer | D1: Waggon 1 | E1: Waggon 2 | F1: Waggon 3 | G1: Waggon 4 | H1: Waggon 5 | I1: Waggon 6 | J1: Waggon 7 | K1: Waggon 8 | L1: Waggon 9 | M1: Waggon 10 | N1: Zuglänge | O1: Zugart | P1: Zugname | Q1: Ansteuerung | R1: Kreis | S1: Parkplatz
A2: 1 | B2: =Loktabelle!B2 -> BR 23.0 | C2: =Loktabelle!G2 -> 23 014 | H2: --------------- | I2: --------------- | J2: --------------- | K2: --------------- | L2: --------------- | M2: --------------- | O2: Personenzug | P2: Rheingold | Q2: Analog | R2: Analog
A3: 2 | B3: =Loktabelle!B3 -> DHG 500 C | C3: =Loktabelle!G3 -> DHG 500 | O3: Rangierlok | Q3: Digital | R3: Digital
A4: 3 | B4: =Loktabelle!B4 -> BR 89 (1) | C4: =Loktabelle!G4 -> 89 006 | O4: Güterzug | Q4: Analog | R4: Analog
A5: 4 | B5: =Loktabelle!B5 -> KLVM | C5: =Loktabelle!G5 -> KLVM | O5: Personenzug | Q5: Analog | R5: Analog
A6: 5 | B6: =Loktabelle!B6 -> BR 24 | C6: =Loktabelle!G6 -> 24 058 | O6: Personenzug | Q6: Digital | R6: Digital
A7: 6 | B7: =Loktabelle!B7 -> VT 95 / 795 (Schienenbus) (1) | C7: =Loktabelle!G7 -> 795 299-7 | D7: 995 522-0 | E7: --------------- | F7: --------------- | G7: --------------- | H7: --------------- | I7: --------------- | J7: --------------- | K7: --------------- | L7: --------------- | M7: --------------- | N7: 26.5 | O7: Personenzug | Q7: Analog | R7: Analog
A8: 7 | B8: =Loktabelle!B8 -> Werkslok | C8: =Loktabelle!G8 -> Werkslok | O8: Güterzug | Q8: Analog | R8: Analog
A9: 8 | B9: =Loktabelle!B9 -> Nr 34/BR 74 | C9: =Loktabelle!G9 -> NR 34 | O9: Personenzug | Q9: Beides | R9: offen
A10: 9 | B10: =Loktabelle!B10 -> BR 80 rot | C10: =Loktabelle!G10 -> 80 016 | D10: //////////// | E10: //////////// | F10: //////////// | G10: //////////// | H10: //////////// | I10: //////////// | J10: //////////// | K10: //////////// | L10: //////////// | M10: //////////// | N10: //////////// | O10: entfällt | P10: --------------- | Q10: Beides | R10: Z-Gestellt
A11: 10 | B11: =Loktabelle!B11 -> BR 80 schwarz | C11: =Loktabelle!G11 -> 80 034 | D11: //////////// | E11: //////////// | F11: //////////// | G11: //////////// | H11: //////////// | I11: //////////// | J11: //////////// | K11: //////////// | L11: //////////// | M11: //////////// | N11: //////////// | O11: entfällt | P11: --------------- | Q11: Beides | R11: Z-Gestellt
A12: 11 | B12: =Loktabelle!B12 -> DHG 300 B | C12: =Loktabelle!G12 -> DHG 300 | O12: Rangierlok | Q12: Beides | R12: offen
A13: 12 | B13: =Loktabelle!B13 -> Schienenzeppelin | C13: =Loktabelle!G13 -> Zeppelin I | D13: --------------- | E13: --------------- | F13: --------------- | G13: --------------- | H13: --------------- | I13: --------------- | J13: --------------- | K13: --------------- | L13: --------------- | M13: --------------- | N13: 28.8 | O13: Personenzug | P13: Senator | Q13: Analog | R13: Analog
A14: 13 | B14: =Loktabelle!B14 -> BR 50 | C14: =Loktabelle!G14 -> 50 082-7 | O14: Güterzug | Q14: Digital | R14: Digital
A15: 14 | B15: =Loktabelle!B15 -> BR 41 | C15: =Loktabelle!G15 -> 41 334 | O15: Güterzug | Q15: Analog | R15: Analog
A16: 15 | B16: =Loktabelle!B16 -> BR 03.10 | C16: =Loktabelle!G16 -> 03 1055 | D16: 107 766 | E16: 17 944 | F16: 14 917 | G16: 17 944 | H16: 14 917 | I16: --------------- | J16: --------------- | K16: --------------- | L16: --------------- | M16: --------------- | N16: 135.4 | O16: Personenzug | Q16: Analog | R16: Analog
A17: 16 | B17: =Loktabelle!B17 -> VT 95 / 795 (Schienenbus) (2) | C17: =Loktabelle!G17 -> OAB | E17: --------------- | F17: --------------- | G17: --------------- | H17: --------------- | I17: --------------- | J17: --------------- | K17: --------------- | L17: --------------- | M17: --------------- | O17: Personenzug | Q17: Digital | R17: Digital
A18: 17 | B18: =Loktabelle!B18 -> ICE 1 | C18: =Loktabelle!G18 -> 401 069-0 | O18: Personenzug | Q18: Beides | R18: offen
A19: 18 | B19: =Loktabelle!B19 -> TEE Triebwagen 1 | C19: =Loktabelle!G19 -> VT115014 | D19: VM115105Aü | E19: VM115404WRy | F19: VM115303ARy | G19: VM1154203Ay | H19: VM115104Ay | I19: =Loktabelle!G53 -> VT115019 | J19: --------------- | K19: --------------- | L19: --------------- | M19: --------------- | N19: 152 | O19: Personenzug | P19: Helvetia | Q19: Digital | R19: Digital
A20: 19 | B20: =Loktabelle!B20 -> ETA 150/BR 515 | C20: =Loktabelle!G20 -> 515 023-0 | D20: 815 616-8 | E20: 815 616-8 | F20: --------------- | G20: --------------- | H20: --------------- | I20: --------------- | J20: --------------- | K20: --------------- | L20: --------------- | M20: --------------- | N20: 72 | O20: Personenzug | Q20: Analog | R20: Analog
A21: 20 | B21: =Loktabelle!B21 -> V200 | C21: =Loktabelle!G21 -> V200 060 | O21: Personenzug | Q21: Digital | R21: Digital
A22: 21 | B22: =Loktabelle!B22 -> BR 89 (2) | C22: =Loktabelle!G22 -> 89 006 | O22: Güterzug | Q22: Digital | R22: Digital
A23: 22 | B23: =Loktabelle!B23 -> E 186 | C23: =Loktabelle!G23 -> E186 103 | O23: Güterzug | Q23: Digital | R23: Digital
A24: 23 | B24: =Loktabelle!B24 -> BR 89 (3) | C24: =Loktabelle!G24 -> 89 028 | D24: //////////// | E24: //////////// | F24: //////////// | G24: //////////// | H24: //////////// | I24: //////////// | J24: //////////// | K24: //////////// | L24: //////////// | M24: //////////// | N24: //////////// | O24: entfällt | P24: --------------- | Q24: Analog | R24: Z-Gestellt
A25: 24 | B25: =Loktabelle!B25 -> BR 89 | C25: =Loktabelle!G25 -> 89 066 | D25: //////////// | E25: //////////// | F25: //////////// | G25: //////////// | H25: //////////// | I25: //////////// | J25: //////////// | K25: //////////// | L25: //////////// | M25: //////////// | N25: //////////// | O25: entfällt | P25: --------------- | Q25: Analog | R25: Z-Gestellt
A26: 25 | B26: =Loktabelle!B26 -> BR 89 (4) | C26: =Loktabelle!G26 -> 89 006 | D26: //////////// | E26: //////////// | F26: //////////// | G26: //////////// | H26: //////////// | I26: //////////// | J26: //////////// | K26: //////////// | L26: //////////// | M26: //////////// | N26: //////////// | O26: entfällt | P26: --------------- | Q26: Analog | R26: Z-Gestellt
A27: 26 | B27: =Loktabelle!B27 -> VT 95 / 795 (Schienenbus) (3) | C27: =Loktabelle!G27 -> 795 299-7 | D27: //////////// | E27: //////////// | F27: //////////// | G27: //////////// | H27: //////////// | I27: //////////// | J27: //////////// | K27: //////////// | L27: //////////// | M27: //////////// | N27: //////////// | O27: entfällt | P27: --------------- | Q27: Analog | R27: Z-Gestellt
A28: 27 | B28: =Loktabelle!B28 -> BR 74 | C28: =Loktabelle!G28 -> 74 701 | D28: Pwi 20t 4003 | E28: 330Stg B3i 18t | F28: 330Stg B3i 18t | G28: Pwi 20t 4003 | H28: --------------- | I28: --------------- | J28: --------------- | K28: --------------- | L28: --------------- | M28: --------------- | N28: 65.7 | O28: Personenzug | Q28: Beides | R28: Analog
A29: 28 | B29: =Loktabelle!B29 -> BR 81 | C29: =Loktabelle!G29 -> 81 010 | O29: Rangierlok | Q29: Digital | R29: Digital
A30: 29 | B30: =Loktabelle!B30 -> V260 | C30: =Loktabelle!G30 -> V260 417-1 | O30: Rangierlok | Q30: Digital | R30: Digital
A31: 30 | B31: =Loktabelle!B31 -> V100 | C31: =Loktabelle!G31 -> V100 2215 | D31: 978 2 032-5 | E31: Kranwagen 6804 | G31: Wagen 1 | H31: --------------- | I31: --------------- | J31: --------------- | K31: --------------- | L31: --------------- | M31: --------------- | O31: Güterzug | P31: Schienenreinigung | Q31: Analog | R31: Analog
A32: 31 | B32: =Loktabelle!B32 -> BR 41 | C32: =Loktabelle!G32 -> 41 356 | O32: Güterzug | Q32: Digital | R32: Digital
A33: 32 | B33: =Loktabelle!B33 -> BR 86 | C33: =Loktabelle!G33 -> 86 582 | D33: 99405Stg | E33: 87453Stg | F33: 87453Stg | G33: --------------- | H33: --------------- | I33: --------------- | J33: --------------- | K33: --------------- | L33: --------------- | M33: --------------- | N33: 71.4 | O33: Personenzug | Q33: Beides | R33: Analog
A34: 33 | B34: =Loktabelle!B34 -> V260 | C34: =Loktabelle!G34 -> V260 417-1 | O34: Rangierlok | Q34: Digital | R34: Digital
A35: 34 | B35: =Loktabelle!B35 -> BR 24 | C35: =Loktabelle!G35 -> 24 061 | D35: 114 843 Han | E35: 36 590 Han | F35: 85 285 Han | G35: --------------- | H35: --------------- | I35: --------------- | J35: --------------- | K35: --------------- | L35: --------------- | M35: --------------- | N35: 67.4 | O35: Personenzug | Q35: Digital | R35: Digital
A36: 35 | B36: =Loktabelle!B36 -> E 103 | C36: =Loktabelle!G36 -> 103 113-7 | O36: Personenzug | Q36: Analog | R36: Analog
A37: 36 | B37: =Loktabelle!B37 -> E 111 | C37: =Loktabelle!G37 -> E 111 068-3 | O37: Personenzug | Q37: Analog | R37: Analog
A38: 37 | B38: =Loktabelle!B38 -> BR 53 | C38: =Loktabelle!G38 -> 53 0012 | D38: 980 896 | E38: 980 896 | F38: 980 896 | G38: --------------- | H38: --------------- | I38: --------------- | J38: --------------- | K38: --------------- | L38: --------------- | M38: --------------- | N38: 110.5 | O38: Güterzug | Q38: Digital | R38: Digital
A39: 38 | B39: =Loktabelle!B39 -> BR 89 (5) | C39: =Loktabelle!G39 -> 89 006 | D39: //////////// | E39: //////////// | F39: //////////// | G39: //////////// | H39: //////////// | I39: //////////// | J39: //////////// | K39: //////////// | L39: //////////// | M39: //////////// | N39: //////////// | O39: entfällt | P39: --------------- | Q39: Analog | R39: Z-Gestellt
A40: 39 | B40: =Loktabelle!B40 -> V212 | C40: =Loktabelle!G40 -> V212 215-8 | O40: Personenzug | Q40: Analog | R40: Analog
...

Sheet Loks nach Antrieb
A1: Dampfloks | D1: Elektroloks | G1: Diesel
A2: BR 03 1055 | D2: ICE 1 401 069-0 | G2: VT115014
A3: BR 003 160-9 | D3: E 103 113-7 | G3: VT115019
D4: E 111 068-3 | G4: ETA 150 / BR 515
A5: BR 05 003 | D5: E 111 133-5 | G5: 795 299-7
A6: BR 06 001 | D6: E 186 103 | G6: OAB
A7: BR 10 001 | D7: E 194 112-9 | G7: 795 299-7
A8: BR 23 003 | G8: Schienenzeppelin I
A9: BR 23 014 | G9: Schienenzeppelin II
A10: BR 24 058 | G10: DHG 300B
A11: BR 24 061 | G11: DHG 500C
A12: BR 41 334 | G12: V100 2215
A13: BR 41 356 | G13: V200 060
A14: BR 50 082-7 | G14: V260 417-1
A15: BR 50 3143 | G15: V260 417-1
A16: BR 53 0012 | G16: V212 215-8
A17: BR 74 701 | G17: 275 343-2
A18: BR 80 016 | G18: 246 007-9
A19: BR 80 034 | G19: 323 490-3
A20: BR 81 010 | G20: SVT 137
A21: BR 85 007
A22: BR 86 582
A23: BR 89 006
A24: BR 89 006
A25: BR 89 006
A26: BR 89 006
A27: BR 89 028
A28: BR 89 066
A29: T9 1108
A30: KLVM
A31: Werkslok
A32: Gp Nr. 608
A33: Nr 34

Sheet Loks Analog
A1: Lok
A3: Dampflokomotiven | D3: Diesellokomotiven | G3: Elektrolokomotiven
A4: BR 03.10 | B4: Tender | C4: Personen | D4: Schienenbus | E4: Triebwagen | F4: Personen | G4: E 103 | I4: Personen
A5: BR 23 | B5: Tender | C5: Personen | D5: Schienenbus | E5: Triebwagen | F5: Personen | G5: E 111 | I5: Personen
A6: BR 41 | B6: Tender | C6: Güter | D6: Schienenzeppelin | E6: Triebwagen | F6: Personen
A7: BR 50 | B7: Tender | C7: Güter | D7: S-Bahn | E7: Triebwagen | F7: Personen
A8: BR 89 | C8: Güter | D8: BR 525 | E8: Triebwagen | F8: Personen
A9: BR 89 | C9: Güter | D9: V100 | F9: Multifunktion
A10: BR 89 | C10: Güter | D10: V212 | F10: Multifunktion
A11: BR 89 | C11: Güter | D11: V260 | F11: Rangierlok
A12: Werkslok | C12: Güter | F12: Rangierlok
A13: KLVM | C13: Personen

Sheet Loks Digital
A1: Lok
A3: Dampflokomotiven | D3: Diesellokomotiven | G3: Elektrolokomotiven
A4: BR 030 | B4: Tender | C4: Personen | D4: Schienenbus (OAB) | E4: Triebwagen | F4: Personen | G4: ICE1 | H4: Triebwagen | I4: Personen
D5: Schienenzeppelin | E5: Triebwagen | F5: Personen | G5: E 111 | I5: Personen
A6: BR 05 | B6: Tender | C6: Personen | D6: VT 11.5 | E6: Triebwagen | F6: Personen | G6: BR 185 | I6: Multifunktion
A7: BR 06 | B7: Tender | C7: Personen | D7: VT 11.5 | E7: Triebwagen | F7: Personen | G7: BR 194 | I7: Güter
A8: BR 10 | B8: Tender | C8: Personen | D8: DHG 300 B | F8: Rangierlok
A9: BR 23 | B9: Tender | C9: Personen | D9: DHG 500 C | F9: Rangierlok
A10: BR 24 | B10: Tender | C10: Personen | D10: Köf | F10: Rangierlok
A11: BR 24 | B11: Tender | C11: Personen | D11: V200 | F11: Multifunktion
A12: BR 41 | B12: Tender | C12: Güter | D12: BR 246 | F12: Personen
A13: BR 50 | B13: Tender | C13: Güter | D13: SVT 137 | F13: Personen
A14: BR 53 | B14: Tender | C14: Güter
A15: BR 74 | C15: Personen
A16: BR 80 | C16: Güter
A17: BR 80 | C17: Güter
A18: BR 81 | C18: Rangierlok
A19: BR 85 | C19: Multifunktion
A20: BR 86 | C20: Rangierlok
A21: BR 89 | C21: Güter
A22: T9 | C22: Güter
A23: Gp Nr. 608
A24: Nr 34

Sheet Wunschliste
A1: Lokomotiven | D1: Wagen | G1: Gleismaterial
A2: Henschel-Wegmann
A3: G 12 | D3: Umbauwagen | E3: 41310
A4: BR 78 | B4: 3106 | D4: Umbauwagen | E4: 41420
A5: BR 05 | B5: 37050 | D5: Umbauwagen | E5: 41430
A6: BR 65 | D6: Wagenset | E6: 41326
A7: Br 01 | D7: Güterzug-Gepäckwagen Pwg Pr 14 | E7: 46986
A8: BR 45 | D8: Eilzug Wagenset | E8: 42269
A9: VT 08.5 | B9: 39080 | D9: F-Zug Set | E9: 43918
D10: Telefunken | E10: 46169
D11: Loewe | E11: 46155
D12: Militärzug | E12: 26606
